BEGIN:VCALENDAR
VERSION:2.0
PRODID:-//wp-events-plugin.com//7.2.3.1//EN
TZID:Europe/Berlin
X-WR-TIMEZONE:Europe/Berlin
BEGIN:VEVENT
UID:170@spirituelle-angebote.de
DTSTART;TZID=Europe/Berlin:20260901T180000
DTEND;TZID=Europe/Berlin:20260901T203000
DTSTAMP:20251121T105912Z
URL:https://spirituelle-angebote.de/events/heilland-7/
SUMMARY:HEILLAND
DESCRIPTION:HEILLAND - Kraft in Krisenzeiten - Meditationsraum in der Chris
 tuskirche
ATTACH;FMTTYPE=image/jpeg:https://spirituelle-angebote.de/wp-content/uploa
 ds/2025/11/Heilland-Grafik.jpg
CATEGORIES:Alle Seminare
LOCATION:Christuskirche Meditationsraum\, Bei der Christuskirche 5\, Hambur
 g\, 20259\, Deutschland
X-APPLE-STRUCTURED-LOCATION;VALUE=URI;X-ADDRESS=Bei der Christuskirche 5\, 
 Hamburg\, 20259\, Deutschland;X-APPLE-RADIUS=100;X-TITLE=Christuskirche Me
 ditationsraum:geo:0,0
END:VEVENT
BEGIN:VTIMEZONE
TZID:Europe/Berlin
X-LIC-LOCATION:Europe/Berlin
BEGIN:DAYLIGHT
DTSTART:20260329T030000
TZOFFSETFROM:+0100
TZOFFSETTO:+0200
TZNAME:CEST
END:DAYLIGHT
END:VTIMEZONE
END:VCALENDAR